Workbook

Sheet SUMMARY
B1: HINAVAAGE | C1: SUMMARY
A3: Project: Single Story Building
A5: SUMMARY OF BILLS OF QUANTITIES
A8: SL.NO | B8: BILL NAME | C8: AMOUNT (MRF)
A9: 1 ) | B9: TOTAL OF BILL NO. 01 (PRELIMINARIES) | C9: =BOQ!F24 -> 0
A10: 2 ) | B10: TOTAL OF BILL NO. 02 (GROUND WORKS) | C10: =BOQ!F37 -> 0
A11: 3 ) | B11: TOTAL OF BILL NO. 03 (CONCRETE WORKS) | C11: =BOQ!F108 -> 0
A12: 4 ) | B12: TOTAL OF BILL NO. 04 (MASONRY & PLASTERING WORKS) | C12: =BOQ!F136 -> 0
A13: 5 ) | B13: TOTAL OF BILL NO. 05 (CEILING WORKS) | C13: =BOQ!F146 -> 0
A14: 6 ) | B14: TOTAL OF BILL NO. 06 (FINISHING WORKS) | C14: =BOQ!F160 -> 0
A15: 7 ) | B15: TOTAL OF BILL NO. 07 (PAINTING WORKS) | C15: =BOQ!F179 -> 0
A16: 8 ) | B16: TOTAL OF BILL NO. 08 (DOORS & WINDOWS WORKS) | C16: =BOQ!F193 -> 0
A17: 9 ) | B17: TOTAL OF BILL NO. 09 (METAL WORKS) | C17: =BOQ!F213 -> 0
A18: 10) | B18: TOTAL OF BILL NO. 10 (PLUMBING SEWERAGE & DRAINAGE SYSTEM) | C18: =BOQ!F237 -> 0
A19: 11) | B19: TOTAL OF BILL NO. 11 (ELECTRICAL INSTALLATIONS) | C19: =BOQ!F288 -> 0
A20: 12) | B20: ADDITION | C20: -
A21: 13) | B21: OMMISION | C21: -
A22: TOTAL AMOUNT (MVR) | C22: =SUM(C9:C21) -> 0
A23: GST (8%) | C23: =C22*0.08 -> 0
A24: TOTAL AMOUNT (MVR) INCLUDING GST | C24: =C22+C23 -> 0
A26: TOTAL AMOUNT (MVR) | G26: =SUM(G8:I23) -> 0
A27: GST (8%) | G27: =G26*0.08 -> 0
A28: TOTAL AMOUNT (MVR) INCLUDING GST | G28: =G26+G27 -> 0

Sheet BOQ
A1: SL.NO | B1: DESCRIPTION | C1: UNIT | D1: QTY | E1: RATE | F1: TOTAL AMOUNT
B2: Bill No: 01
B3: PRELIMINARIES
A4: 1.1 | B4: GENERAL NOTES
B5: Abbreviations
B6: m - meter
B7: Nr - numbers
B8: m3 - cubic meter
B9: m2 - square meter
B10: Rmtr - Linear meter
B11: kg - kilograms
A12: 1.2 | B12: SITE MANAGEMENT COST
B13: (a) Design of and location of temporary facilities shall be approved from the Consultant prior to erection.
B14: (b) Rate shall include for protection of temporary facilities from inclement weather, carelessness or lack of skilled workmanship
B15: (c) Rates shall include for demolition, dismantling and clearing of all temporary facilities on and under ground as directed by the Consultant
B16: (d) Site management costs shall not be considered in any variations approved during the entire project duration.
A17: 1 ) | B17: Allow for all on and off site management costs including costs of foreman, erection of temporary buildings and services, maintenance, telephone, fax, hoardings, fences and similar | C17: item | D17: 1
A18: 1.3 | B18: SIGN BOARD
B19: (a) Rate shall include for fabrication, erection, maintenance and removal upon completion of the project.
B20: (b) A scaled layout shall be submitted for the Consultant's approval before fabrication
A21: 1 ) | B21: Allow for a sign board of not less than 2m x 2m | C21: nr | D21: 1
A22: 1.4 | B22: CLEAN - UP
A23: 1 ) | B23: Allow for clean-up of completed works and site | C23: item | D23: 1
A24: TOTAL OF BILL NO. 01 (PRELIMINARIES)
A25: (CARRIED OVER TO THE GENERAL SUMMARY)
B26: Bill No: 02
B27: GROUND WORKS
A28: 2.1 | B28: GENERAL NOTES:
B29: (a) Rates shall include for: leveling, grading, trimming, compacting to faces of excavation, keep sides plumb, backfilling, consolidating in layers and disposing surplus soil
A30: 2.3 | B30: SITE CLEARING | C30: item | D30: 1
B31: Clear the area of site from rubbish and vegetable matters, stumps, roots.
B32: Demolition shall be included (if any)
A33: 2.4 | B33: EXCAVATION | C33: m3 | D33: =Sheet4!I5 -> 6.358625
B34: Allow for equipment, machinery and excavation with disposal of excavated materials.
A35: 2.5 | B35: BACKFILL | C35: m3 | D35: =Sheet4!I13 -> 3.913
B36: Allow for filling of good quality material, free from garbage, spoiled soil, boulders. Filling to be done in layers to provide require compaction. Precaution to be taken while compaction for the sub-structure and any service pipe lines or cables underneath.
A37: TOTAL OF BILL NO. 02 (GROUND WORKS)
A38: (CARRIED OVER TO THE GENERAL SUMMARY)
B39: Bill No: 03
B40: CONCRETE WORKS
...

Sheet Sheet4
A1: Concrete-worck
A2: SL.NO | B2: Description | C2: NO | F2: L | G2: B/H | H2: D | I2: QTY | J2: UNT
A3: 1 | B3: Earth work Footing
B4: FOUNDATION | C4: 1 | D4: x | E4: 1 | F4: 39.13 | G4: 0.25 | H4: 0.65 | I4: =C4*E4*F4*G4*H4 -> 6.358625
B5: Total | I5: =SUM(I4:I4) -> 6.358625 | J5: M3
A6: 3 | B6: Earth work Foundation Beam
B7: FOUNDATION
B8: Total | I8: =SUM(I7:I7) -> 0 | J8: M3 | L8: =I5+I8 -> 6.358625
A9: 1 | B9: Back filling
I10: =I5 -> 6.358625
I11: =I8 -> 0
I12: =-I22 -> -2.445625
B13: Total | I13: =SUM(I10:I12) -> 3.913 | J13: M3
A14: 1 | B14: 50mm thick Footing
B15: FOUNDATION | C15: 1 | D15: x | E15: 1 | F15: 39.13 | G15: 0.25 | H15: 0.05 | I15: =C15*E15*F15*G15*H15 -> 0.489125
B16: Total | I16: =SUM(I15:I15) -> 0.489125 | J16: M3
A17: 3 | B17: Earth work Foundation Beam
B19: Total | I19: =SUM(I18:I18) -> 0 | J19: M3 | L19: =I16+I19 -> 0.489125
A20: 2 | B20: Footing Concrete
B21: FOUNDATION | C21: 1 | D21: x | E21: 1 | F21: 39.13 | G21: 0.25 | H21: 0.25 | I21: =C21*E21*F21*G21*H21 -> 2.445625
B22: Total | I22: =SUM(I21:I21) -> 2.445625 | J22: M3
A24: 3 | B24: Foundation Beam
B26: Total | I26: =SUM(I25:I25) -> 0 | J26: M3
A28: 4 | B28: Column Concrete
B29: C1 | C29: 1 | D29: x | E29: 8 | F29: 0.15 | G29: 0.15 | H29: 0.4 | I29: =C29*E29*F29*G29*H29 -> 0.072
B30: Total | I30: =SUM(I29:I29) -> 0.072 | J30: M3
A32: 5 | B32: 150 mm thick Ground slab
C33: 1 | D33: x | E33: 1 | F33: 9.75 | G33: 4 | H33: 0.15 | I33: =C33*E33*F33*G33*H33 -> 5.85 | M33: =F33*G33 -> 39 | O33: =C33*E33*F33*G33 -> 39
B34: Total | I34: =SUM(I33:I33) -> 5.85 | J34: M3 | O34: =SUM(O33:O33) -> 39
M35: =F33*G33 -> 39
A36: 4 | B36: Column Concrete
B37: C1 | C37: 1 | D37: x | E37: 8 | F37: 0.15 | G37: 0.15 | H37: 3 | I37: =C37*E37*F37*G37*H37 -> 0.54
B38: Total | I38: =SUM(I37:I37) -> 0.54 | J38: M3
A41: 8 | B41: First Floor Beam
B42: B1 | C42: 1 | D42: x | E42: 1 | F42: 30 | G42: 0.15 | H42: 0.35 | I42: =C42*E42*F42*G42*H42 -> 1.575
B43: Total | I43: =SUM(I42:I42) -> 1.575 | J43: M3
A44: 8 | B44: First Floor Slab
C45: 1 | D45: x | E45: 2 | F45: 1.8 | G45: 5 | H45: 0.13 | I45: =C45*E45*F45*G45*H45 -> 2.34
B46: Total | I46: =SUM(I45:I45) -> 2.34 | J46: M3
A49: From-worck
...

Sheet Sheet2
A1: Nolhivaram -Site
A2: SL.NO | B2: Description | C2: NO | F2: L | G2: 6mm | H2: 10mm | I2: 12mm | J2: 16mm | K2: 20mm | L2: 25mm
A3: 1 | B3: Footing
B4: ST1- | C4: 1 | D4: x | E4: 8 | F4: 39.13 | I4: =C4*E4*F4 -> 313.04
C5: 1 | D5: x | E5: 390 | F5: 1 | G5: =C5*E5*F5 -> 390
G6: =SUM(G3:G5) -> 390 | H6: =SUM(H4:H5) -> 0 | I6: =SUM(I3:I5) -> 313.04 | J6: =SUM(J3:J5) -> 0 | K6: =SUM(K3:K5) -> 0 | L6: =SUM(L3:L5) -> 0
B7: Extra 10% | G7: =G6*0.1 -> 39 | H7: =H6*0.1 -> 0 | I7: =I6*0.1 -> 31.304 | J7: =J6*0.1 -> 0 | K7: =K6*0.1 -> 0 | L7: =L6*0.1 -> 0
G8: =SUM(G6:G7) -> 429 | H8: =SUM(H6:H7) -> 0 | I8: =SUM(I6:I7) -> 344.344 | J8: =SUM(J6:J7) -> 0 | K8: =SUM(K6:K7) -> 0 | L8: =SUM(L6:L7) -> 0 | N8: =J4+J5 -> 0
B9: Kg | G9: 0.222 | H9: 0.617 | I9: 0.888 | J9: 1.58 | K9: 2.46 | L9: =L8/6 -> 0 | N9: =N8*0.1 -> 0
B10: Total | G10: =G8*G9 -> 95.238 | H10: =H8*H9 -> 0 | I10: =I8*I9 -> 305.77747 | J10: =J8*J9 -> 0 | K10: =K8*K9 -> 0 | N10: =N8+N9 -> 0
N11: =N10*1.58 -> 0
A13: 3 | B13: Column
B14: C1 | C14: 8 | D14: x | E14: 4 | F14: 1 | I14: =C14*E14*F14 -> 32
C15: 8 | D15: x | E15: 4 | F15: 0.6 | G15: =C15*E15*F15 -> 19.2
G16: =SUM(G14:G15) -> 19.2 | H16: =SUM(H14:H15) -> 0 | I16: =SUM(I14:I15) -> 32 | J16: =SUM(J14:J15) -> 0 | K16: =SUM(K14:K15) -> 0 | L16: =SUM(L14:L15) -> 0
B17: Extra 10% | G17: =G16*0.1 -> 1.92 | H17: =H16*0.1 -> 0 | I17: =I16*0.1 -> 3.2 | J17: =J16*0.1 -> 0 | K17: =K16*0.1 -> 0 | L17: =L16*0.1 -> 0
G18: =SUM(G16:G17) -> 21.12 | H18: =SUM(H16:H17) -> 0 | I18: =SUM(I16:I17) -> 35.2 | J18: =SUM(J16:J17) -> 0 | K18: =SUM(K16:K17) -> 0 | L18: =SUM(L16:L17) -> 0
B19: Kg | G19: 0.222 | H19: =H18/6 -> 0 | I19: 0.888 | J19: 1.58 | K19: 2.46 | L19: =L18/6 -> 0
B20: Total | G20: =G18*G19 -> 4.68864 | I20: =I18*I19 -> 31.2576 | J20: =J18*J19 -> 0 | K20: =K18*K19 -> 0
A23: 4 | B23: Ground Slab
B24: TB | C24: 1 | D24: x | E24: =F25/0.15 -> 26.666667 | F24: 9.75 | G24: =C24*E24*F24 -> 260
B25: TB | C25: 1 | D25: x | E25: =F24/0.15 -> 65 | F25: 4 | G25: =C25*E25*F25 -> 260
G26: =G24+G25 -> 520 | H26: =SUM(H24:H25) -> 0 | I26: =SUM(I23:I24) -> 0 | J26: =SUM(J23:J24) -> 0 | K26: =SUM(K23:K24) -> 0 | L26: =SUM(L23:L24) -> 0
B27: Extra 10% | G27: =G26*0.1 -> 52 | H27: =H26*0.1 -> 0 | I27: =I26*0.1 -> 0 | J27: =J26*0.1 -> 0 | K27: =K26*0.1 -> 0 | L27: =L26*0.1 -> 0
G28: =SUM(G24:G25) -> 520 | H28: =SUM(H26:H27) -> 0 | I28: =SUM(I26:I27) -> 0 | J28: =SUM(J26:J27) -> 0 | K28: =SUM(K26:K27) -> 0 | L28: =SUM(L26:L27) -> 0
B29: Kg | G29: 0.222 | H29: 0.617 | I29: 0.888 | J29: 1.58 | K29: =K28/6 -> 0 | L29: =L28/6 -> 0
B30: Total | G30: =G28*G29 -> 115.44 | H30: =H28*H29 -> 0 | I30: =I28*I29 -> 0 | J30: =J28*J29 -> 0
A32: 3 | B32: Column
B33: C1 | C33: 8 | D33: x | E33: 4 | F33: 3 | I33: =C33*E33*F33 -> 96
C34: 8 | D34: x | E34: 20 | F34: 0.6 | G34: =C34*E34*F34 -> 96
G35: =SUM(G33:G34) -> 96 | H35: =SUM(H33:H34) -> 0 | I35: =SUM(I33:I34) -> 96 | J35: =SUM(J33:J34) -> 0 | K35: =SUM(K33:K34) -> 0 | L35: =SUM(L33:L34) -> 0
B36: Extra 10% | G36: =G35*0.1 -> 9.6 | H36: =H35*0.1 -> 0 | I36: =I35*0.1 -> 9.6 | J36: =J35*0.1 -> 0 | K36: =K35*0.1 -> 0 | L36: =L35*0.1 -> 0
G37: =SUM(G35:G36) -> 105.6 | H37: =SUM(H35:H36) -> 0 | I37: =SUM(I35:I36) -> 105.6 | J37: =SUM(J35:J36) -> 0 | K37: =SUM(K35:K36) -> 0 | L37: =SUM(L35:L36) -> 0
B38: Kg | G38: 0.222 | H38: =H37/6 -> 0 | I38: 0.888 | J38: 1.58 | K38: 2.46 | L38: =L37/6 -> 0
B39: Total | G39: =G37*G38 -> 23.4432 | I39: =I37*I38 -> 93.7728 | J39: =J37*J38 -> 0 | K39: =K37*K38 -> 0
A42: Nolhivaram -Site
A43: SL.NO | B43: Description | C43: NO | F43: L | G43: 6mm | H43: 10mm | I43: 12mm | J43: 16mm | K43: 20mm | L43: 25mm
A44: 1 | B44: Beam Concrete 1st Slab
B45: B1 | C45: 1 | D45: x | E45: 4 | F45: 30 | H45: =C45*E45*F45 -> 120
C46: 1 | D46: x | E46: 300 | F46: 0.9 | G46: =C46*E46*F46 -> 270
...
